BEGIN:VCALENDAR
VERSION:2.0
PRODID:-//wp-events-plugin.com//6.6.4.4//EN
BEGIN:VEVENT
UID:0-18@comarcas.csm.org.pt
DTSTART;TZID=Europe/Lisbon;VALUE=DATE:20260423
DTEND;TZID=Europe/Lisbon;VALUE=DATE:20260424
DTSTAMP:20260420T085812Z
URL:https://comarcas.csm.org.pt/coimbra/events/2-a-edicao-do-seminario-nov
 os-desafios-do-direito-e-da-justica/
SUMMARY:2.ª edição do Seminário NOVOS DESAFIOS DO DIREITO E DA JUSTIÇA
DESCRIPTION:SEMINARIO_23-24_04_2026
ATTACH;FMTTYPE=image/jpeg:https://comarcas.csm.org.pt/coimbra/wp-content/u
 ploads/sites/12/2026/04/Capturar.jpg
END:VEVENT
BEGIN:VTIMEZONE
TZID:Europe/Lisbon
X-LIC-LOCATION:Europe/Lisbon
BEGIN:DAYLIGHT
DTSTART:20260329T020000
TZOFFSETFROM:+0000
TZOFFSETTO:+0100
TZNAME:WEST
END:DAYLIGHT
END:VTIMEZONE
END:VCALENDAR