BEGIN:VCALENDAR
VERSION:2.0
PRODID:-//wp-events-plugin.com//6.6.4.4//EN
BEGIN:VEVENT
UID:0-10@comarcas.csm.org.pt
DTSTART:20260523T100000Z
DTEND:20260523T140000Z
DTSTAMP:20260422T085949Z
URL:https://comarcas.csm.org.pt/lisboa-norte/events/caminhada-convivio-pas
 sadicos-do-tejo/
SUMMARY:Caminhada Convívio Comarca de Lisboa Norte- Passadiços do Tejo
DESCRIPTION:No próximo dia 23 de Maio terá lugar a 1ª Caminhada da Comar
 ca de Lisboa Norte. A iniciativa é dirigida a todos os Magistrados Judici
 ais\, Magistrados do Ministério Público e Funcionários de Justiça da C
 omarca\, visando proporcionar um momento de convívio e descontração ent
 re todos.\n\nEste evento visa promover o bem-estar e reforçar os laços i
 nstitucionais num ambiente informal\, percorrendo as margens do rio Tejo n
 uma paisagem única.\n\nO Programa do Evento poderá ser consultado AQUI\n
 \n&nbsp\;
ATTACH;FMTTYPE=image/jpeg:https://comarcas.csm.org.pt/lisboa-norte/wp-cont
 ent/uploads/sites/18/2026/04/Capturar4.jpg
END:VEVENT
END:VCALENDAR