BEGIN:VCALENDAR
VERSION:2.0
PRODID:-//wp-events-plugin.com//6.6.4.4//EN
BEGIN:VEVENT
UID:0-8@comarcas.csm.org.pt
DTSTART;TZID=Europe/Lisbon;VALUE=DATE:20251106
DTEND;TZID=Europe/Lisbon;VALUE=DATE:20251108
DTSTAMP:20250718T094039Z
URL:https://comarcas.csm.org.pt/madeira/events/xix-encontro-anual-do-conse
 lho-superior-da-magistratura/
SUMMARY:XIX Encontro Anual do Conselho Superior da Magistratura
DESCRIPTION:O Encontro Anual do Conselho Superior da Magistratura é um esp
 aço de discussão sobre temas dominantes da atualidade e relevantes para 
 o judiciário e\, em especial\, para a magistratura judicial.\n\nEm 2025\,
  nos dias 6 e 7 de Setembro o Encontro Anual do Conselho Superior da Magis
 tratura vai ocorrer em Setúbal.\n\nJuízes: o apelo da linguagem clara na
  decisão e na transformação digitalJuízes. Decisão. Digital. Comunica
 ção Clara.
ATTACH;FMTTYPE=image/jpeg:https://comarcas.csm.org.pt/madeira/wp-content/u
 ploads/sites/28/2025/07/bBanner-site-encontro-anual-setubal-scaled-1.jpg
END:VEVENT
BEGIN:VTIMEZONE
TZID:Europe/Lisbon
X-LIC-LOCATION:Europe/Lisbon
BEGIN:STANDARD
DTSTART:20251026T010000
TZOFFSETFROM:+0100
TZOFFSETTO:+0000
TZNAME:WET
END:STANDARD
END:VTIMEZONE
END:VCALENDAR