BEGIN:VCALENDAR
VERSION:2.0
PRODID:-//wp-events-plugin.com//6.6.4.4//EN
BEGIN:VEVENT
UID:0-6@comarcas.csm.org.pt
DTSTART;VALUE=DATE:20250705
DTEND;VALUE=DATE:20250706
DTSTAMP:20250512T083037Z
URL:https://comarcas.csm.org.pt/porto-este/events/dia-da-comarca/
SUMMARY:Dia da Comarca
DESCRIPTION:\n&nbsp\;\nO tradicional "Dia da Comarca" realizar-se-á este a
 no no Município de Penafiel.\n"Este evento\, criado por proposta do Conse
 lho Consultivo\, é o mais marcante das atividades realizadas na nossa Com
 arca e tem sido um sucesso nos municípios onde se tem realizado\, sendo o
  encontro e a confraternização entre os vários operadores judiciários\
 , respetivas famílias e demais entidades que colaboram/se relacionam com 
 o Tribunal\, objetivos que subsistem desde 2015\, ano do primeiro evento"
ATTACH;FMTTYPE=image/jpeg:https://comarcas.csm.org.pt/porto-este/wp-conten
 t/uploads/sites/23/2025/05/Logo.png
END:VEVENT
END:VCALENDAR