BEGIN:VCALENDAR
VERSION:2.0
PRODID:-//wp-events-plugin.com//6.6.4.4//EN
BEGIN:VEVENT
UID:0-6@comarcas.csm.org.pt
DTSTART:20250702T140000Z
DTEND:20250702T140000Z
DTSTAMP:20250617T102930Z
URL:https://comarcas.csm.org.pt/porto/events/abertura-de-propostas-proc-o-
 n-o-27-23-4t8vlg/
SUMMARY:Abertura de Propostas Proc.º n.º 27/23.4T8VLG
DESCRIPTION:
END:VEVENT
END:VCALENDAR