BEGIN:VCALENDAR
VERSION:2.0
PRODID:-//wp-events-plugin.com//6.6.4.4//EN
TZID:America/Santarem
X-WR-TIMEZONE:America/Santarem
BEGIN:VEVENT
UID:0-10@comarcas.csm.org.pt
DTSTART;TZID=Europe/Lisbon:20260522T100000
DTEND;TZID=Europe/Lisbon:20260522T170000
DTSTAMP:20260423T100601Z
URL:https://comarcas.csm.org.pt/santarem/events/seminario-justica-cidadani
 a-e-participacao-popular-na-administracao-da-justica/
SUMMARY:Seminário: Justiça\, Cidadania e Participação Popular na Admini
 stração da Justiça
DESCRIPTION:
END:VEVENT
BEGIN:VTIMEZONE
TZID:Europe/Lisbon
X-LIC-LOCATION:Europe/Lisbon
BEGIN:DAYLIGHT
DTSTART:20260329T020000
TZOFFSETFROM:+0000
TZOFFSETTO:+0100
TZNAME:WEST
END:DAYLIGHT
END:VTIMEZONE
END:VCALENDAR